Package: RcisTarget.hg19.motifDBs.cisbpOnly.500bp
Version: 1.26.0
Command: /home/biocbuild/bbs-3.20-bioc/R/bin/R CMD INSTALL RcisTarget.hg19.motifDBs.cisbpOnly.500bp
StartedAt: 2025-02-20 10:56:03 -0500 (Thu, 20 Feb 2025)
EndedAt: 2025-02-20 10:56:12 -0500 (Thu, 20 Feb 2025)
EllapsedTime: 9.4 seconds
RetCode: 0
Status: OK