Package: ReactomeGSA.data Version: 1.20.0 Command: /home/biocbuild/bbs-3.20-bioc/R/bin/R CMD build --keep-empty-dirs --no-resave-data ReactomeGSA.data StartedAt: 2025-02-04 11:32:59 -0500 (Tue, 04 Feb 2025) EndedAt: 2025-02-04 11:34:21 -0500 (Tue, 04 Feb 2025) EllapsedTime: 81.9 seconds RetCode: 0 Status: OK PackageFile: ReactomeGSA.data_1.20.0.tar.gz PackageFileSize: 23.08 MiB