Package: RforProteomics Version: 1.44.0 Command: /home/biocbuild/bbs-3.20-bioc/R/bin/R CMD INSTALL RforProteomics StartedAt: 2025-02-04 11:01:18 -0500 (Tue, 04 Feb 2025) EndedAt: 2025-02-04 11:01:52 -0500 (Tue, 04 Feb 2025) EllapsedTime: 33.2 seconds RetCode: 0 Status: OK