Package: RnBeads.hg19 Version: 1.38.0 Command: /home/biocbuild/bbs-3.20-bioc/R/bin/R CMD build --keep-empty-dirs --no-resave-data RnBeads.hg19 StartedAt: 2025-02-04 11:33:50 -0500 (Tue, 04 Feb 2025) EndedAt: 2025-02-04 11:33:57 -0500 (Tue, 04 Feb 2025) EllapsedTime: 7.3 seconds RetCode: 0 Status: OK PackageFile: RnBeads.hg19_1.38.0.tar.gz PackageFileSize: 100.1 MiB