Package: RnBeads.hg19 Version: 1.38.0 Command: /home/biocbuild/bbs-3.20-bioc/R/bin/R CMD check --install=check:RnBeads.hg19.install-out.txt --library=/home/biocbuild/bbs-3.20-bioc/R/site-library --timings RnBeads.hg19_1.38.0.tar.gz StartedAt: 2025-02-06 12:31:53 -0500 (Thu, 06 Feb 2025) EndedAt: 2025-02-06 12:33:55 -0500 (Thu, 06 Feb 2025) EllapsedTime: 121.3 seconds RetCode: 0 Status: OK CheckDir: RnBeads.hg19.Rcheck Warnings: 0