Package: RnBeads.mm10 Version: 2.14.0 Maintainer: RnBeads Team MaintainerEmail: team at rnbeads.org git_url: https://git.bioconductor.org/packages/RnBeads.mm10 git_branch: RELEASE_3_20 git_last_commit: b0510db git_last_commit_date: 2024-10-29 09:41:36 -0500 (Tue, 29 Oct 2024)