Package: RnBeads.mm10 Version: 2.14.0 Command: /home/biocbuild/bbs-3.20-bioc/R/bin/R CMD build --keep-empty-dirs --no-resave-data RnBeads.mm10 StartedAt: 2025-02-04 11:33:57 -0500 (Tue, 04 Feb 2025) EndedAt: 2025-02-04 11:34:08 -0500 (Tue, 04 Feb 2025) EllapsedTime: 10.3 seconds RetCode: 0 Status: OK PackageFile: RnBeads.mm10_2.14.0.tar.gz PackageFileSize: 149.1 MiB