Package: RnBeads.rn5 Version: 1.38.0 Command: /home/biocbuild/bbs-3.20-bioc/R/bin/R CMD check --install=check:RnBeads.rn5.install-out.txt --library=/home/biocbuild/bbs-3.20-bioc/R/site-library --timings RnBeads.rn5_1.38.0.tar.gz StartedAt: 2025-02-04 12:32:34 -0500 (Tue, 04 Feb 2025) EndedAt: 2025-02-04 12:35:07 -0500 (Tue, 04 Feb 2025) EllapsedTime: 152.6 seconds RetCode: 0 Status: OK CheckDir: RnBeads.rn5.Rcheck Warnings: 0