Package: RnBeads.rn5 Version: 1.38.0 Command: /home/biocbuild/bbs-3.20-bioc/R/bin/R CMD INSTALL RnBeads.rn5 StartedAt: 2025-02-04 10:58:21 -0500 (Tue, 04 Feb 2025) EndedAt: 2025-02-04 10:58:28 -0500 (Tue, 04 Feb 2025) EllapsedTime: 7.3 seconds RetCode: 0 Status: OK