Package: RnaSeqSampleSizeData Version: 1.38.0 Command: /home/biocbuild/bbs-3.20-bioc/R/bin/R CMD build --keep-empty-dirs --no-resave-data RnaSeqSampleSizeData StartedAt: 2025-02-04 11:33:44 -0500 (Tue, 04 Feb 2025) EndedAt: 2025-02-04 11:33:51 -0500 (Tue, 04 Feb 2025) EllapsedTime: 6.3 seconds RetCode: 0 Status: OK PackageFile: RnaSeqSampleSizeData_1.38.0.tar.gz PackageFileSize: 6.036 MiB