Package: RnaSeqSampleSizeData Version: 1.38.0 Command: /home/biocbuild/bbs-3.20-bioc/R/bin/R CMD check --install=check:RnaSeqSampleSizeData.install-out.txt --library=/home/biocbuild/bbs-3.20-bioc/R/site-library --timings RnaSeqSampleSizeData_1.38.0.tar.gz StartedAt: 2025-02-06 12:31:50 -0500 (Thu, 06 Feb 2025) EndedAt: 2025-02-06 12:32:17 -0500 (Thu, 06 Feb 2025) EllapsedTime: 27.4 seconds RetCode: 0 Status: OK CheckDir: RnaSeqSampleSizeData.Rcheck Warnings: 0