Package: SNPhoodData Version: 1.36.0 Command: /home/biocbuild/bbs-3.20-bioc/R/bin/R CMD build --keep-empty-dirs --no-resave-data SNPhoodData StartedAt: 2025-02-06 11:37:38 -0500 (Thu, 06 Feb 2025) EndedAt: 2025-02-06 11:37:56 -0500 (Thu, 06 Feb 2025) EllapsedTime: 18.3 seconds RetCode: 0 Status: OK PackageFile: SNPhoodData_1.36.0.tar.gz PackageFileSize: 233.5 MiB