Package: SNPhoodData Version: 1.36.0 Command: /home/biocbuild/bbs-3.20-bioc/R/bin/R CMD INSTALL SNPhoodData StartedAt: 2025-02-04 10:55:37 -0500 (Tue, 04 Feb 2025) EndedAt: 2025-02-04 10:55:39 -0500 (Tue, 04 Feb 2025) EllapsedTime: 1.6 seconds RetCode: 0 Status: OK