Package: SVM2CRMdata Version: 1.38.0 Command: /home/biocbuild/bbs-3.20-bioc/R/bin/R CMD build --keep-empty-dirs --no-resave-data SVM2CRMdata StartedAt: 2025-02-06 11:38:11 -0500 (Thu, 06 Feb 2025) EndedAt: 2025-02-06 11:41:32 -0500 (Thu, 06 Feb 2025) EllapsedTime: 201.2 seconds RetCode: 0 Status: OK PackageFile: SVM2CRMdata_1.38.0.tar.gz PackageFileSize: 345 MiB