Package: Single.mTEC.Transcriptomes Version: 1.34.0 Command: /home/biocbuild/bbs-3.20-bioc/R/bin/R CMD check --install=check:Single.mTEC.Transcriptomes.install-out.txt --library=/home/biocbuild/bbs-3.20-bioc/R/site-library --timings Single.mTEC.Transcriptomes_1.34.0.tar.gz StartedAt: 2025-02-04 12:38:54 -0500 (Tue, 04 Feb 2025) EndedAt: 2025-02-04 12:47:05 -0500 (Tue, 04 Feb 2025) EllapsedTime: 491.9 seconds RetCode: 0 Status: OK CheckDir: Single.mTEC.Transcriptomes.Rcheck Warnings: 0