Package: SingleCellMultiModal Version: 1.18.0 Command: /home/biocbuild/bbs-3.20-bioc/R/bin/R CMD check --install=check:SingleCellMultiModal.install-out.txt --library=/home/biocbuild/bbs-3.20-bioc/R/site-library --timings SingleCellMultiModal_1.18.0.tar.gz StartedAt: 2025-02-06 12:38:30 -0500 (Thu, 06 Feb 2025) EndedAt: 2025-02-06 12:49:15 -0500 (Thu, 06 Feb 2025) EllapsedTime: 645.8 seconds RetCode: 0 Status: OK CheckDir: SingleCellMultiModal.Rcheck Warnings: 0