Package: SingleCellMultiModal Version: 1.18.0 Command: /home/biocbuild/bbs-3.20-bioc/R/bin/R CMD INSTALL SingleCellMultiModal StartedAt: 2025-02-04 10:59:56 -0500 (Tue, 04 Feb 2025) EndedAt: 2025-02-04 11:00:28 -0500 (Tue, 04 Feb 2025) EllapsedTime: 32.0 seconds RetCode: 0 Status: OK