Package: SomaticCancerAlterations Version: 1.42.0 Command: /home/biocbuild/bbs-3.20-bioc/R/bin/R CMD check --install=check:SomaticCancerAlterations.install-out.txt --library=/home/biocbuild/bbs-3.20-bioc/R/site-library --timings SomaticCancerAlterations_1.42.0.tar.gz StartedAt: 2025-02-04 12:39:53 -0500 (Tue, 04 Feb 2025) EndedAt: 2025-02-04 12:41:17 -0500 (Tue, 04 Feb 2025) EllapsedTime: 83.9 seconds RetCode: 0 Status: OK CheckDir: SomaticCancerAlterations.Rcheck Warnings: 0