Package: SomaticCancerAlterations Version: 1.42.0 Command: /home/biocbuild/bbs-3.20-bioc/R/bin/R CMD INSTALL SomaticCancerAlterations StartedAt: 2025-02-06 10:58:20 -0500 (Thu, 06 Feb 2025) EndedAt: 2025-02-06 10:58:27 -0500 (Thu, 06 Feb 2025) EllapsedTime: 7.2 seconds RetCode: 0 Status: OK