Package: SpatialDatasets Version: 1.4.0 Command: /home/biocbuild/bbs-3.20-bioc/R/bin/R CMD check --install=check:SpatialDatasets.install-out.txt --library=/home/biocbuild/bbs-3.20-bioc/R/site-library --timings SpatialDatasets_1.4.0.tar.gz StartedAt: 2025-02-04 12:39:57 -0500 (Tue, 04 Feb 2025) EndedAt: 2025-02-04 12:43:12 -0500 (Tue, 04 Feb 2025) EllapsedTime: 195.5 seconds RetCode: 0 Status: WARNINGS CheckDir: SpatialDatasets.Rcheck Warnings: 3