Package: SpikeInSubset Version: 1.46.0 Command: /home/biocbuild/bbs-3.20-bioc/R/bin/R CMD build --keep-empty-dirs --no-resave-data SpikeInSubset StartedAt: 2025-02-13 11:38:34 -0500 (Thu, 13 Feb 2025) EndedAt: 2025-02-13 11:38:38 -0500 (Thu, 13 Feb 2025) EllapsedTime: 3.3 seconds RetCode: 0 Status: OK PackageFile: SpikeInSubset_1.46.0.tar.gz PackageFileSize: 17.99 <A href="http://en.wikipedia.org/wiki/MiB" target="_blank">MiB</A>