Package: TCGAWorkflowData Version: 1.30.0 Command: /home/biocbuild/bbs-3.20-bioc/R/bin/R CMD build --keep-empty-dirs --no-resave-data TCGAWorkflowData StartedAt: 2025-02-04 11:39:25 -0500 (Tue, 04 Feb 2025) EndedAt: 2025-02-04 11:41:52 -0500 (Tue, 04 Feb 2025) EllapsedTime: 146.7 seconds RetCode: 0 Status: OK PackageFile: TCGAWorkflowData_1.30.0.tar.gz PackageFileSize: 68.83 MiB