Package: TCGAbiolinksGUI.data Version: 1.26.0 Maintainer: Tiago Chedraoui Silva MaintainerEmail: tiagochst at gmail.com git_url: https://git.bioconductor.org/packages/TCGAbiolinksGUI.data git_branch: RELEASE_3_20 git_last_commit: 021d131 git_last_commit_date: 2024-10-29 09:47:25 -0500 (Tue, 29 Oct 2024)