Package: TCGAbiolinksGUI.data Version: 1.26.0 Command: /home/biocbuild/bbs-3.20-bioc/R/bin/R CMD build --keep-empty-dirs --no-resave-data TCGAbiolinksGUI.data StartedAt: 2025-02-04 11:39:13 -0500 (Tue, 04 Feb 2025) EndedAt: 2025-02-04 11:39:43 -0500 (Tue, 04 Feb 2025) EllapsedTime: 30.2 seconds RetCode: 0 Status: OK PackageFile: TCGAbiolinksGUI.data_1.26.0.tar.gz PackageFileSize: 21.86 MiB