Package: TCGAbiolinksGUI.data Version: 1.26.0 Command: /home/biocbuild/bbs-3.20-bioc/R/bin/R CMD check --install=check:TCGAbiolinksGUI.data.install-out.txt --library=/home/biocbuild/bbs-3.20-bioc/R/site-library --timings TCGAbiolinksGUI.data_1.26.0.tar.gz StartedAt: 2025-02-06 12:43:14 -0500 (Thu, 06 Feb 2025) EndedAt: 2025-02-06 12:46:34 -0500 (Thu, 06 Feb 2025) EllapsedTime: 199.6 seconds RetCode: 0 Status: WARNINGS CheckDir: TCGAbiolinksGUI.data.Rcheck Warnings: 1