Package: TCGAcrcmiRNA Version: 1.26.0 Command: /home/biocbuild/bbs-3.20-bioc/R/bin/R CMD INSTALL TCGAcrcmiRNA StartedAt: 2025-02-04 10:56:07 -0500 (Tue, 04 Feb 2025) EndedAt: 2025-02-04 10:56:10 -0500 (Tue, 04 Feb 2025) EllapsedTime: 2.2 seconds RetCode: 0 Status: OK