Package: TENxBUSData Version: 1.20.0 Command: /home/biocbuild/bbs-3.20-bioc/R/bin/R CMD build --keep-empty-dirs --no-resave-data TENxBUSData StartedAt: 2025-02-04 11:39:31 -0500 (Tue, 04 Feb 2025) EndedAt: 2025-02-04 11:39:58 -0500 (Tue, 04 Feb 2025) EllapsedTime: 27.3 seconds RetCode: 0 Status: OK PackageFile: TENxBUSData_1.20.0.tar.gz PackageFileSize: 221.3 KiB