Package: TabulaMurisData Version: 1.24.0 Command: /home/biocbuild/bbs-3.20-bioc/R/bin/R CMD INSTALL TabulaMurisData StartedAt: 2025-02-06 10:57:33 -0500 (Thu, 06 Feb 2025) EndedAt: 2025-02-06 10:57:46 -0500 (Thu, 06 Feb 2025) EllapsedTime: 12.8 seconds RetCode: 0 Status: OK