Package: VectraPolarisData Version: 1.10.0 Command: /home/biocbuild/bbs-3.20-bioc/R/bin/R CMD INSTALL VectraPolarisData StartedAt: 2025-02-04 11:01:21 -0500 (Tue, 04 Feb 2025) EndedAt: 2025-02-04 11:01:51 -0500 (Tue, 04 Feb 2025) EllapsedTime: 30.5 seconds RetCode: 0 Status: OK