Package: WeberDivechaLCdata Version: 1.8.0 Command: /home/biocbuild/bbs-3.20-bioc/R/bin/R CMD build --keep-empty-dirs --no-resave-data WeberDivechaLCdata StartedAt: 2025-02-04 11:41:31 -0500 (Tue, 04 Feb 2025) EndedAt: 2025-02-04 11:43:12 -0500 (Tue, 04 Feb 2025) EllapsedTime: 100.9 seconds RetCode: 0 Status: OK PackageFile: WeberDivechaLCdata_1.8.0.tar.gz PackageFileSize: 223.6 KiB