Package: XhybCasneuf Version: 1.44.0 Command: /home/biocbuild/bbs-3.20-bioc/R/bin/R CMD build --keep-empty-dirs --no-resave-data XhybCasneuf StartedAt: 2025-02-04 11:41:52 -0500 (Tue, 04 Feb 2025) EndedAt: 2025-02-04 11:42:11 -0500 (Tue, 04 Feb 2025) EllapsedTime: 18.2 seconds RetCode: 0 Status: OK PackageFile: XhybCasneuf_1.44.0.tar.gz PackageFileSize: 3.37 MiB