Package: XhybCasneuf Version: 1.44.0 Command: /home/biocbuild/bbs-3.20-bioc/R/bin/R CMD check --install=check:XhybCasneuf.install-out.txt --library=/home/biocbuild/bbs-3.20-bioc/R/site-library --timings XhybCasneuf_1.44.0.tar.gz StartedAt: 2025-02-04 12:51:54 -0500 (Tue, 04 Feb 2025) EndedAt: 2025-02-04 12:52:57 -0500 (Tue, 04 Feb 2025) EllapsedTime: 63.2 seconds RetCode: 0 Status: WARNINGS CheckDir: XhybCasneuf.Rcheck Warnings: 1