Package: affydata Version: 1.54.0 Command: /home/biocbuild/bbs-3.20-bioc/R/bin/R CMD build --keep-empty-dirs --no-resave-data affydata StartedAt: 2025-01-30 11:06:28 -0500 (Thu, 30 Jan 2025) EndedAt: 2025-01-30 11:06:55 -0500 (Thu, 30 Jan 2025) EllapsedTime: 27.1 seconds RetCode: 0 Status: OK PackageFile: affydata_1.54.0.tar.gz PackageFileSize: 12.21 MiB