Package: airway Version: 1.26.0 Command: /home/biocbuild/bbs-3.20-bioc/R/bin/R CMD check --install=check:airway.install-out.txt --library=/home/biocbuild/bbs-3.20-bioc/R/site-library --timings airway_1.26.0.tar.gz StartedAt: 2025-02-04 11:44:06 -0500 (Tue, 04 Feb 2025) EndedAt: 2025-02-04 11:45:17 -0500 (Tue, 04 Feb 2025) EllapsedTime: 70.6 seconds RetCode: 0 Status: WARNINGS CheckDir: airway.Rcheck Warnings: 1