Package: aracne.networks Version: 1.32.0 Command: /home/biocbuild/bbs-3.20-bioc/R/bin/R CMD INSTALL aracne.networks StartedAt: 2025-02-06 10:57:59 -0500 (Thu, 06 Feb 2025) EndedAt: 2025-02-06 10:58:34 -0500 (Thu, 06 Feb 2025) EllapsedTime: 34.9 seconds RetCode: 0 Status: OK