Package: bcellViper Version: 1.42.0 Command: /home/biocbuild/bbs-3.20-bioc/R/bin/R CMD INSTALL bcellViper StartedAt: 2025-02-06 10:56:17 -0500 (Thu, 06 Feb 2025) EndedAt: 2025-02-06 10:56:19 -0500 (Thu, 06 Feb 2025) EllapsedTime: 2.3 seconds RetCode: 0 Status: OK