Package: beadarrayExampleData Version: 1.44.0 Command: /home/biocbuild/bbs-3.20-bioc/R/bin/R CMD build --keep-empty-dirs --no-resave-data beadarrayExampleData StartedAt: 2025-02-04 11:06:23 -0500 (Tue, 04 Feb 2025) EndedAt: 2025-02-04 11:06:47 -0500 (Tue, 04 Feb 2025) EllapsedTime: 24.4 seconds RetCode: 0 Status: OK PackageFile: beadarrayExampleData_1.44.0.tar.gz PackageFileSize: 29.96 MiB