Package: beadarrayExampleData Version: 1.44.0 Command: /home/biocbuild/bbs-3.20-bioc/R/bin/R CMD INSTALL beadarrayExampleData StartedAt: 2025-02-04 10:58:20 -0500 (Tue, 04 Feb 2025) EndedAt: 2025-02-04 10:58:30 -0500 (Tue, 04 Feb 2025) EllapsedTime: 9.8 seconds RetCode: 0 Status: OK