Package: beta7 Version: 1.44.0 Maintainer: Jean Yang MaintainerEmail: jean at biostat.ucsf.edu git_url: https://git.bioconductor.org/packages/beta7 git_branch: RELEASE_3_20 git_last_commit: 19e8672 git_last_commit_date: 2024-10-29 09:24:49 -0500 (Tue, 29 Oct 2024)