Package: biotmleData Version: 1.30.0 Command: /home/biocbuild/bbs-3.20-bioc/R/bin/R CMD build --keep-empty-dirs --no-resave-data biotmleData StartedAt: 2025-02-04 11:06:39 -0500 (Tue, 04 Feb 2025) EndedAt: 2025-02-04 11:06:42 -0500 (Tue, 04 Feb 2025) EllapsedTime: 2.3 seconds RetCode: 0 Status: OK PackageFile: biotmleData_1.30.0.tar.gz PackageFileSize: 30.67 MiB