Package: blimaTestingData Version: 1.26.0 Command: /home/biocbuild/bbs-3.20-bioc/R/bin/R CMD build --keep-empty-dirs --no-resave-data blimaTestingData StartedAt: 2025-02-20 11:07:16 -0500 (Thu, 20 Feb 2025) EndedAt: 2025-02-20 11:07:59 -0500 (Thu, 20 Feb 2025) EllapsedTime: 43.0 seconds RetCode: 0 Status: OK PackageFile: blimaTestingData_1.26.0.tar.gz PackageFileSize: 98.28 <A href="http://en.wikipedia.org/wiki/MiB" target="_blank">MiB</A>