Package: breastCancerNKI Version: 1.44.0 Command: /home/biocbuild/bbs-3.20-bioc/R/bin/R CMD build --keep-empty-dirs --no-resave-data breastCancerNKI StartedAt: 2025-02-06 11:06:50 -0500 (Thu, 06 Feb 2025) EndedAt: 2025-02-06 11:06:52 -0500 (Thu, 06 Feb 2025) EllapsedTime: 2.3 seconds RetCode: 0 Status: OK PackageFile: breastCancerNKI_1.44.0.tar.gz PackageFileSize: 15.55 MiB