Package: breastCancerNKI Version: 1.44.0 Command: /home/biocbuild/bbs-3.20-bioc/R/bin/R CMD INSTALL breastCancerNKI StartedAt: 2025-02-06 10:55:41 -0500 (Thu, 06 Feb 2025) EndedAt: 2025-02-06 10:55:44 -0500 (Thu, 06 Feb 2025) EllapsedTime: 2.4 seconds RetCode: 0 Status: OK