Package: breastCancerUNT Version: 1.44.0 Command: /home/biocbuild/bbs-3.20-bioc/R/bin/R CMD INSTALL breastCancerUNT StartedAt: 2025-02-04 10:55:41 -0500 (Tue, 04 Feb 2025) EndedAt: 2025-02-04 10:55:47 -0500 (Tue, 04 Feb 2025) EllapsedTime: 5.7 seconds RetCode: 0 Status: OK