Package: bronchialIL13 Version: 1.44.0 Command: /home/biocbuild/bbs-3.20-bioc/R/bin/R CMD build --keep-empty-dirs --no-resave-data bronchialIL13 StartedAt: 2025-02-06 11:06:59 -0500 (Thu, 06 Feb 2025) EndedAt: 2025-02-06 11:07:06 -0500 (Thu, 06 Feb 2025) EllapsedTime: 7.1 seconds RetCode: 0 Status: OK PackageFile: bronchialIL13_1.44.0.tar.gz PackageFileSize: 69.13 MiB