Package: bugphyzz Version: 1.0.0 Command: /home/biocbuild/bbs-3.20-bioc/R/bin/R CMD build --keep-empty-dirs --no-resave-data bugphyzz StartedAt: 2025-02-04 11:07:25 -0500 (Tue, 04 Feb 2025) EndedAt: 2025-02-04 11:08:22 -0500 (Tue, 04 Feb 2025) EllapsedTime: 57.1 seconds RetCode: 0 Status: OK PackageFile: bugphyzz_1.0.0.tar.gz PackageFileSize: 887.9 KiB