Package: bugphyzz Version: 1.0.0 Command: /home/biocbuild/bbs-3.20-bioc/R/bin/R CMD check --install=check:bugphyzz.install-out.txt --library=/home/biocbuild/bbs-3.20-bioc/R/site-library --timings bugphyzz_1.0.0.tar.gz StartedAt: 2025-02-04 11:46:38 -0500 (Tue, 04 Feb 2025) EndedAt: 2025-02-04 11:57:14 -0500 (Tue, 04 Feb 2025) EllapsedTime: 636.0 seconds RetCode: 1 Status: ERROR CheckDir: bugphyzz.Rcheck Warnings: NA