Package: bugphyzz Version: 1.0.0 Command: /home/biocbuild/bbs-3.20-bioc/R/bin/R CMD INSTALL bugphyzz StartedAt: 2025-02-04 10:56:34 -0500 (Tue, 04 Feb 2025) EndedAt: 2025-02-04 10:56:37 -0500 (Tue, 04 Feb 2025) EllapsedTime: 2.6 seconds RetCode: 0 Status: OK