Package: cancerdata Version: 1.44.0 Command: /home/biocbuild/bbs-3.20-bioc/R/bin/R CMD check --install=check:cancerdata.install-out.txt --library=/home/biocbuild/bbs-3.20-bioc/R/site-library --timings cancerdata_1.44.0.tar.gz StartedAt: 2025-02-04 11:46:45 -0500 (Tue, 04 Feb 2025) EndedAt: 2025-02-04 11:47:08 -0500 (Tue, 04 Feb 2025) EllapsedTime: 23.3 seconds RetCode: 0 Status: OK CheckDir: cancerdata.Rcheck Warnings: 0