Package: celarefData Version: 1.24.0 Command: /home/biocbuild/bbs-3.20-bioc/R/bin/R CMD build --keep-empty-dirs --no-resave-data celarefData StartedAt: 2025-02-04 11:07:30 -0500 (Tue, 04 Feb 2025) EndedAt: 2025-02-04 11:08:02 -0500 (Tue, 04 Feb 2025) EllapsedTime: 32.0 seconds RetCode: 0 Status: OK PackageFile: celarefData_1.24.0.tar.gz PackageFileSize: 231.4 KiB